BEGIN:VCALENDAR
VERSION:2.0
PRODID:-//Tukios.com/
BEGIN:VEVENT
UID:285ddec4-fbd9-4fc0-b9a1-a5ef2714cff3@www.ardoinfuneralhomesvilleplatte.com
DTSTAMP:20260424T112643Z
DTSTART:20260427T180000Z
DTEND:20260427T190000Z
SUMMARY:Funeral Service
DESCRIPTION:
URL:https://www.ardoinfuneralhomesvilleplatte.com/obituaries/marie-hunt
LOCATION: 709 W Main St  Ville Platte LA 70586
GEO:30.6914416;-92.2806603
END:VEVENT
END:VCALENDAR