BEGIN:VCALENDAR
VERSION:2.0
PRODID:-//Tukios.com/
BEGIN:VEVENT
UID:f8a1788e-6d8e-4e63-a003-17d47640671c@www.ardoinfuneralhomesvilleplatte.com
DTSTAMP:20260424T112751Z
DTSTART:20260427T150000Z
DTEND:20260427T180000Z
SUMMARY:Visitation
DESCRIPTION:
URL:https://www.ardoinfuneralhomesvilleplatte.com/obituaries/marie-hunt
LOCATION: 709 W Main St  Ville Platte LA 70586
GEO:30.6914416;-92.2806603
END:VEVENT
END:VCALENDAR