BEGIN:VCALENDAR
VERSION:2.0
PRODID:-//Tukios.com/
BEGIN:VEVENT
UID:545bcbee-32d0-4fba-9336-2caded7e79f2@www.ardoinfuneralhomesvilleplatte.com
DTSTAMP:20260424T112724Z
DTSTART:20260427T150000Z
DTEND:20260427T160000Z
SUMMARY:Graveside Service
DESCRIPTION:
URL:https://www.ardoinfuneralhomesvilleplatte.com/obituaries/carole-juneau
LOCATION:Gates of Heaven Cemetery  W Dardeau St  Ville Platte LA 70586
GEO:30.7000399;-92.2809427
END:VEVENT
END:VCALENDAR